BEGIN:VCALENDAR
VERSION:2.0
PRODID:-//Raag-Mala Toronto - ECPv6.15.20//NONSGML v1.0//EN
CALSCALE:GREGORIAN
METHOD:PUBLISH
X-WR-CALNAME:Raag-Mala Toronto
X-ORIGINAL-URL:https://raagmala.ca
X-WR-CALDESC:Events for Raag-Mala Toronto
REFRESH-INTERVAL;VALUE=DURATION:PT1H
X-Robots-Tag:noindex
X-PUBLISHED-TTL:PT1H
BEGIN:VTIMEZONE
TZID:UTC
BEGIN:STANDARD
TZOFFSETFROM:+0000
TZOFFSETTO:+0000
TZNAME:UTC
DTSTART:20240101T000000
END:STANDARD
END:VTIMEZONE
BEGIN:VEVENT
DTSTART;TZID=UTC:20250510T193000
DTEND;TZID=UTC:20250510T220000
DTSTAMP:20260419T161443
CREATED:20250416T143101Z
LAST-MODIFIED:20250416T161121Z
UID:1666-1746905400-1746914400@raagmala.ca
SUMMARY:Sarod Sisters: Troilee & Moisilee Dutta
DESCRIPTION:Raag-Mala Toronto\, in partnership with the Aga Khan Museum\, is proud to present a sarod recital by the Sarod Sisters on Saturday May 10th 2025 at 7:30pm\n\n\nTicket Pricing:Balcony: $40Orchestra: $50\nRaag-Mala Member Discount: 10%\n\nA limited number of $20 student tickets will be available for purchase directly from Raag-Mala Toronto. Please email raagmalatoronto@gmail.com for details.\n\n\nTickets will be going on sale on Thursday April 17th at 10am\n\n\nRaag-Mala Benefactors & Patrons: \nIf you are unable to attend a concert\, pass your complimentary tickets to a friend!\nTo help us assign seats\, you may be contacted to confirm attendance\n\n\n\n\n\n\nTroilee & Moisilee \nTroilee & Moisilee\, popularly known as the “Sarod Sisters”\, are two young sarod players of the Senia-Maihar Gharana. They both have learnt under the affectionate guidance of Pandit Kamal Mallick. Troilee also took intensive taalim from Sitar virtuoso Pt. Sanjoy Bandopadhyay and now they are under the noble guidance of Sarod maestro Pt. Partho Sarathy. \nThe “Sarod Sisters” have been performing together since childhood and have received the blessings of many stalwart musicians and audiences across the globe. They have performed for The Dover Lane Music Conference in Kolkata; Pandit Ravi Shankar Music Foundation in New Delhi\, Milap in the UK\,  Padma Vibhaushan Ustad Ali Akbar Khan’s Birth Centenary Concert by Aashish Khan School of World Music & Annapurna Devi Foundation\, Kolkata\, to name a few. \nTroilee & Moisilee both have individually got selected by the Govt. of India – Ministry of Culture for National Scholarship for their music. Troilee is a ‘Sangeet Ratna’ from Bangiyo Sangeet Parishad. She is also a First Class First\, Gold Medallist in M.A in Music from Rabindra Bharati University and received the degree of Doctorate in 2020. In 2009 she stood first in both the competitions organized by “The Dover Lane Music Conference & The Dover Lane Music Academy” and “Sri Aurobindo Institute of Culture”\, Kolkata. She is now an All India Radio\, Doordarshan (Indian National Television Broadcast Channel) and SPICMACAY empanelled artist. Moisilee has also completed 6th Year from Bangiyo Sangeet Parishad and obtained 1st class with distinction. In educational aspect she has completed her Masters in Physics and now a research scholar in Jadavpur University. \n\nThe Sarod Sisters will be accompanied by Indranil Mallick on tabla. \n\nIndranil Mallick \nBorn into a musical family\, Indranil began to learn tabla when he was only five\, from his uncle\, Sri Montu Mallick. Later he was trained by Prof. Dhabol Bandyapadhaya and Sri Uttam Chakraborty\, senior disciple of Pandit Swapan Chaudhuri\, who is now his guru.  Indranil holds a “Sangeet Visharad”\, Bachelor of Arts Degree in Music focused on Tabla\, from the University of Chandigarh. \nAmong his many awards and distinctions in tabla performance\, he stood first in the Yuva Utsav organized by the state Government of West Bengal.  Keeping a rigorous performance schedule\, Indranil continues to perform with renowned artists in various music conferences in India and abroad.
URL:https://raagmala.ca/concert/1666/
LOCATION:Aga Khan Museum\, 77 Wynford Dr\,\, North York\, Ontario\, M3C 1K1\, Canada
CATEGORIES:Aga Khan Museum,In Person Concert
ATTACH;FMTTYPE=image/jpeg:https://raagmala.ca/wp-content/uploads/2025/04/RM-May-2025-IG-flyer.jpg
ORGANIZER;CN="Aga Khan Museum":MAILTO:information@agakhanmuseum.org
END:VEVENT
END:VCALENDAR