BEGIN:VCALENDAR
VERSION:2.0
PRODID:-//Raag-Mala Toronto - ECPv6.15.20//NONSGML v1.0//EN
CALSCALE:GREGORIAN
METHOD:PUBLISH
X-ORIGINAL-URL:https://raagmala.ca
X-WR-CALDESC:Events for Raag-Mala Toronto
REFRESH-INTERVAL;VALUE=DURATION:PT1H
X-Robots-Tag:noindex
X-PUBLISHED-TTL:PT1H
BEGIN:VTIMEZONE
TZID:UTC
BEGIN:STANDARD
TZOFFSETFROM:+0000
TZOFFSETTO:+0000
TZNAME:UTC
DTSTART:20210101T000000
END:STANDARD
END:VTIMEZONE
BEGIN:VEVENT
DTSTART;TZID=UTC:20220924T193000
DTEND;TZID=UTC:20220924T213000
DTSTAMP:20260424T164720
CREATED:20220901T162044Z
LAST-MODIFIED:20220919T200344Z
UID:997-1664047800-1664055000@raagmala.ca
SUMMARY:Rachna Bodas: Torch Bearer of a Timeless Tradition
DESCRIPTION:Rachna Bodas\nTorch Bearer of a Timeless Tradition  \nRachna Bodas is an accomplished Indian classical vocalist endowed with a rich\, pure\, and vibrant voice. Her dedication and devotion can be seen in her performances\, which have earned her wide acclaim and appreciation from the music fraternity and her listeners. Her style of singing and approach towards a raag is very much influenced by her Guru Late Vidushi Smt. Veena Sahasrabuddhe of Gwalior Gharana. She has completed Sangeet Visharad from Gandharva Mahavidyala Mandal. \nRachna will be accompanied by Toronto based artists\, Rigved Deshpande (Tabla) and Hardeep Chana (Harmonium) \nProgram Update: \nBhuvanesh Komkali will no longer be performing on September 24 due to unforeseen circumstances. The evening will now start at 7:30 pm. \nTickets: \nRaag-Mala Toronto Benefactors & Patrons: FREE\n$40\, $30 (10% Member Discount)\nLimited number of $10 tickets for full-time students with valid ID are available through Raag-Mala Toronto. Please email: raagmalatoronto@gmail.com \n*Program Subject to Change
URL:https://raagmala.ca/concert/rachna-bodas-bhuvanesh-komkali-two-torch-bearers-of-raag-music/
LOCATION:Aga Khan Museum\, 77 Wynford Dr\,\, North York\, Ontario\, M3C 1K1\, Canada
CATEGORIES:Aga Khan Museum
ATTACH;FMTTYPE=image/jpeg:https://raagmala.ca/wp-content/uploads/2022/09/RM-Sept-2022-IG-flyer2.jpg
ORGANIZER;CN="Raag-Mala Toronto":MAILTO:info@raagmala.ca
END:VEVENT
END:VCALENDAR