BEGIN:VCALENDAR
VERSION:2.0
PRODID:-//Raag-Mala Toronto - ECPv6.15.20//NONSGML v1.0//EN
CALSCALE:GREGORIAN
METHOD:PUBLISH
X-ORIGINAL-URL:https://raagmala.ca
X-WR-CALDESC:Events for Raag-Mala Toronto
REFRESH-INTERVAL;VALUE=DURATION:PT1H
X-Robots-Tag:noindex
X-PUBLISHED-TTL:PT1H
BEGIN:VTIMEZONE
TZID:UTC
BEGIN:STANDARD
TZOFFSETFROM:+0000
TZOFFSETTO:+0000
TZNAME:UTC
DTSTART:20220101T000000
END:STANDARD
END:VTIMEZONE
BEGIN:VEVENT
DTSTART;TZID=UTC:20230428T200000
DTEND;TZID=UTC:20230428T220000
DTSTAMP:20260424T072453
CREATED:20230214T002114Z
LAST-MODIFIED:20230426T204229Z
UID:1118-1682712000-1682719200@raagmala.ca
SUMMARY:Kaushiki Chakraborty LIVE at Aga Khan Museum
DESCRIPTION:Tickets for Kaushiki Chakraborty are SOLD OUT! \nRaag-Mala Toronto\, in partnership with the Aga Khan Museum\, is proud to present a vocal recital by Kaushiki Chakraborty on Friday\, April 28th at 8pm. \nEndowed with a thrilling and mellifluous voice\, Kaushiki Chakraborty’s talent and charming stage presence have made her one of the brightest stars in the galaxy of young vocalists. \nKaushiki Chakraborty started her training under her mother Smt. Chandana Chakrabarty\, and studied later under her father the renowned singer Padma Shree Pt. Ajoy Chakrabarty. She was also accepted as a “ganda bandh shagird” (formal disciple) of the legendary musician the late Pandit Jnan Prakash Ghosh. \nHighly adept at all styles of singing\, Kaushiki will present a program of khayal\, thumri and other lighter genres.  She will be accompanied by Sri Tanmay Deochake on Harmonium\, Sri Nitin Mitta on Tabla and Sri Rattan Bhamrah on Esraj. \nTickets: $60\, $50 (10% Member Discount)\nTickets include same day Aga Khan Museum admission \nSOLD OUT: Limited $20 student tickets for full time students with valid ID \nRaag-Mala Benefactors & Patrons: \nIf you are unable to attend a concert\, pass your complimentary tickets to a friend!\nTo help us assign seats\, you may be contacted to confirm attendance.
URL:https://raagmala.ca/concert/kaushiki-chakraborty-live-at-aga-khan-museum/
LOCATION:Aga Khan Museum\, 77 Wynford Dr\,\, North York\, Ontario\, M3C 1K1\, Canada
CATEGORIES:Aga Khan Museum,In Person Concert
ATTACH;FMTTYPE=image/jpeg:https://raagmala.ca/wp-content/uploads/2023/04/RM-April-2023-IG-flyer-v4_page-0001.jpg
ORGANIZER;CN="Aga Khan Museum":MAILTO:information@agakhanmuseum.org
END:VEVENT
END:VCALENDAR