BEGIN:VCALENDAR
VERSION:2.0
PRODID:-//Raag-Mala Toronto - ECPv6.15.20//NONSGML v1.0//EN
CALSCALE:GREGORIAN
METHOD:PUBLISH
X-ORIGINAL-URL:https://raagmala.ca
X-WR-CALDESC:Events for Raag-Mala Toronto
REFRESH-INTERVAL;VALUE=DURATION:PT1H
X-Robots-Tag:noindex
X-PUBLISHED-TTL:PT1H
BEGIN:VTIMEZONE
TZID:UTC
BEGIN:STANDARD
TZOFFSETFROM:+0000
TZOFFSETTO:+0000
TZNAME:UTC
DTSTART:20220101T000000
END:STANDARD
END:VTIMEZONE
BEGIN:VEVENT
DTSTART;TZID=UTC:20230527T193000
DTEND;TZID=UTC:20230527T220000
DTSTAMP:20260424T060000
CREATED:20230426T205229Z
LAST-MODIFIED:20230503T011351Z
UID:1220-1685215800-1685224800@raagmala.ca
SUMMARY:Apoorva Gokhale & Pallavi Joshi LIVE at Aga Khan Museum
DESCRIPTION:Raag-Mala Toronto\, in partnership with the Aga Khan Museum\, is proud to present a vocal recital by Apoorva Gokhale & Pallavi Joshi: Singing sisters in their Prime on Saturday May 27th 2023 at 7:30pm \nApoorva Gokhale was born into a family of traditional legendary musicians. She has carved a niche for herself as one of the sought-after vocalists of her generation with a firm grounding in Gwalior gharana gayaki – the tradition’s style of singing. She has an impressive lineage: her grandfather was late Pandit Gajananbuva Joshi and her great- grandfather Pt. Antubua Joshi\, an eminent court musician in the state of Aundh. \nPallavi Joshi\, like her elder sister Apoorva\, represents the 5th generation of the rich musical tradition. Her training started at the age of 5 from her grandfather Pt. Gajananbuva Joshi. After the demise of her guru\, she learnt under her uncle Pt. Madhukar Joshi\, her aunt Dr. Sucheta Bidkar and her father Shri. Manohar Joshi. She is a recipient of the National Scholarship for Hindustani Classical vocal young artistes from the Government of India. \nThe sisters will be accompanied by Sri Sanjay Deshpande on Tabla and Sri Chinmay Kolhatkar on Harmonium. \nTickets: Balcony $40\, Orchestra $50 (10% Discount for Members)\nTickets include same day Aga Khan Museum admission \nBUY NOW \nA limited number of $20 student tickets\, for full time students with valid ID\, are available for purchase directly from Raag-Mala Toronto. Please email raagmalatoronto@gmail.com for details. \n\nRaag-Mala Benefactors & Patrons: \nIf you are unable to attend a concert\, pass your complimentary tickets to a friend!\nTo help us assign seats\, you may be contacted to confirm attendance.
URL:https://raagmala.ca/concert/apoorva-gokhale-pallavi-joshi-live-at-aga-khan-museum/
LOCATION:Aga Khan Museum\, 77 Wynford Dr\,\, North York\, Ontario\, M3C 1K1\, Canada
CATEGORIES:Aga Khan Museum,In Person Concert
ATTACH;FMTTYPE=image/jpeg:https://raagmala.ca/wp-content/uploads/2023/04/RM-Sisters-2023-IG-flyer.jpg
ORGANIZER;CN="Aga Khan Museum":MAILTO:information@agakhanmuseum.org
END:VEVENT
END:VCALENDAR