BEGIN:VCALENDAR
VERSION:2.0
PRODID:-//Raag-Mala Toronto - ECPv6.15.20//NONSGML v1.0//EN
CALSCALE:GREGORIAN
METHOD:PUBLISH
X-WR-CALNAME:Raag-Mala Toronto
X-ORIGINAL-URL:https://raagmala.ca
X-WR-CALDESC:Events for Raag-Mala Toronto
REFRESH-INTERVAL;VALUE=DURATION:PT1H
X-Robots-Tag:noindex
X-PUBLISHED-TTL:PT1H
BEGIN:VTIMEZONE
TZID:UTC
BEGIN:STANDARD
TZOFFSETFROM:+0000
TZOFFSETTO:+0000
TZNAME:UTC
DTSTART:20220101T000000
END:STANDARD
END:VTIMEZONE
BEGIN:VEVENT
DTSTART;TZID=UTC:20230624T193000
DTEND;TZID=UTC:20230624T223000
DTSTAMP:20260424T060113
CREATED:20230430T075533Z
LAST-MODIFIED:20230601T072856Z
UID:1225-1687635000-1687645800@raagmala.ca
SUMMARY:Padma Bhushan Pt. Budhaditya Mukherjee LIVE at Aga Khan Museum
DESCRIPTION:Raag-Mala Toronto\, in partnership with the Aga Khan Museum\, is proud to present a sitar recital by Padma Bhushan Pt. Budhaditya Mukherjee on Saturday June 24th 2023 7:30pm \nPandit Budhaditya Mukherjee is one the best loved sitarist in India today. He received his training in sitar and surbahar from his illustrious father\, Late Acharya Pandit Bimalendu Mukherjee\, a doyen of the Imdadkhani Gharana. Over an illustrious career\, Pandit ji has received numerous awards\, including the Sangeet Natak Akademi award in 2010 and the Padma Bhushan in 2019. He has performed in many countries around the world\, and was the first musician ever to perform in the House of Commons\, London in June 1990. \nPandit ji will present a program of evening raags and lighter melodies\, with his long-time accompanist Sri Soumen Nandy on Tabla. \nTickets: Balcony $50\, Orchestra $60 (10% Discount for Members)\nTickets include same day Aga Khan Museum admission \nRegular Tickets are SOLD OUT!\nA limited number of STUDENT TICKETS remain!\nLimited Rush tickets will be available at the venue 2 hours before the show \nA limited number of $20 student tickets\, for full time students with valid ID\, are available for purchase directly from Raag-Mala Toronto. Please email raagmalatoronto@gmail.com for details. \n\n\nRaag-Mala Benefactors & Patrons: \nIf you are unable to attend a concert\, pass your complimentary tickets to a friend!\nTo help us assign seats\, you may be contacted to confirm attendance
URL:https://raagmala.ca/concert/ptbudhadityamukherjee/
LOCATION:Aga Khan Museum\, 77 Wynford Dr\,\, North York\, Ontario\, M3C 1K1\, Canada
CATEGORIES:Aga Khan Museum,In Person Concert
ATTACH;FMTTYPE=image/jpeg:https://raagmala.ca/wp-content/uploads/2023/06/Budhaditya-Sold-Out.jpg
ORGANIZER;CN="Aga Khan Museum":MAILTO:information@agakhanmuseum.org
END:VEVENT
END:VCALENDAR