BEGIN:VCALENDAR
VERSION:2.0
PRODID:-//Raag-Mala Toronto - ECPv6.15.20//NONSGML v1.0//EN
CALSCALE:GREGORIAN
METHOD:PUBLISH
X-WR-CALNAME:Raag-Mala Toronto
X-ORIGINAL-URL:https://raagmala.ca
X-WR-CALDESC:Events for Raag-Mala Toronto
REFRESH-INTERVAL;VALUE=DURATION:PT1H
X-Robots-Tag:noindex
X-PUBLISHED-TTL:PT1H
BEGIN:VTIMEZONE
TZID:UTC
BEGIN:STANDARD
TZOFFSETFROM:+0000
TZOFFSETTO:+0000
TZNAME:UTC
DTSTART:20230101T000000
END:STANDARD
END:VTIMEZONE
BEGIN:VEVENT
DTSTART;TZID=UTC:20240421T160000
DTEND;TZID=UTC:20240421T193000
DTSTAMP:20260421T120139
CREATED:20240226T033426Z
LAST-MODIFIED:20240226T033606Z
UID:1378-1713715200-1713727800@raagmala.ca
SUMMARY:Abhisek Lahiri & Omkar Dadarkar LIVE at Aga Khan Museum
DESCRIPTION:Raag-Mala Toronto\, in partnership with the Aga Khan Museum\, is proud to present a two part concert with Abhisek Lahiri & Omkar Dadarkar on Sunday April 21st at 4pm. \nAbhisek Lahiri\nAbhisek began learning from his father\, Pt. Alok Lahiri\, at a very young age. He started performing publicly at the age of 10\, though he got his first break at the national level when he was invited by Pt. Hariprasad Chaurasia to play at his ‘Saath Saath Festival’ where he was named “The Wonder Kid”. Today\, he has created his own unique style of playing and has achieved many accolades across the globe. \nHe has toured extensively in India and abroad and has represented India at World Music Festivals in Morrocco and Cyprus. \nAbhisek will be accompanied by Indranil Mallick (Tabla) \nIndranil Mallick\nBorn into a musical family\, Indranil began to learn tabla when he was only five\, from his uncle\, Sri Montu Mallick. Later he was trained by Prof. Dhabol Bandyapadhaya and Sri Uttam Chakraborty\, senior disciple of Pandit Swapan Chaudhuri\, who is now his guru.  Indranil holds a “Sangeet Visharad”\, Bachelor of Arts Degree in Music focused on Tabla\, from the University of Chandigarh. \nAmong his many awards and distinctions in tabla performance\, he stood first in the Yuva Utsav organized by the state Government of West Bengal.  Keeping a rigorous performance schedule\, Indranil continues to perform with renowned artists in various music conferences in India and abroad. \nOmkar Dadarkar\nOmkar hails from a family of ‘Marathi Natyasangeet’ exponents\, he received his initial guidance from his aunt\, legendary vocalist Padmashree Manik Verma\, and thereafter from Ram Deshpande. After that he took training from Pt. Yashwantbua Joshi of Gwalior Gharana in the Guru-shishya Parampara tradition. After joining I.T.C. Sangeet Research Academy in 1999 as a scholar\, he has undergone rigorous training under the tutelage of guru Pt. Ulhas Kashalkar. He is now on the faculty of ITC SRA. \nOmkar has fast gained recognition as a regular concert performer all over India and abroad. His numerous awards include the prestigious Ustad Bismillah Khan Yuva Puraskar for 2010 conferred by the Sangeet Natak Akademi to talented artistes below the age of 35. \nOmkar will be accompanied by Sri Sanjay Deshpande (Tabla) and Siddesh Bicholkar (Harmonium) \nSanjay Deshpande\nSanjay Deshpande started learning tabla under Late Pt. Sabade; later he took taleem from Taalyogi Pt. Suresh Talwalkar of Delhi-Farookabad Gharana and received guidance from the maestro Ud. Alla Rakha Khan. Sanjay continues his studies under Pt. Yogesh Samsi and Pt. Vivek Joshi. He is a recipient of the coveted “Ahmedjaan Thirakwa Scholarship” for solo performance\, and has accompanied senior artists such as Pt. Ulhas Kashalkar\, Vidushi. Malini Rajurkar\, Dr. Prabha Atre\, Pt. Dinkar Kaikini\, and Vidushi Ashwini Bhide. \nSiddhesh Bicholkar\nSiddhesh has been learning music since childhood and has been privileged to receive guidance from Shri Sharad Mathkar and Pt. Tulsidas Borkar\, renowned Harmonium exponent and Guru. He has been the recipient of many eminent music scholarships including from the Government of India. \n\nTickets: Balcony $40\, Orchestra $50 (10% Discount for Members)\nTickets include same day Aga Khan Museum Admission \nTickets will be going on sale on Wednesday February 28th at 10am at the link below. Please be advised the ‘Reserve Now’ button will only become available at 10am on the 28th. \nhttps://agakhanmuseum.org/programs/Lahiri-dadarkar \nA limited number of $20 student tickets\, for full time students with valid ID\, are available for purchase directly from Raag-Mala Toronto. Please email raagmalatoronto@gmail.com for details. \n\nRaag-Mala Benefactors & Patrons: \nIf you are unable to attend a concert\, pass your complimentary tickets to a friend!\nTo help us assign seats\, you may be contacted to confirm attendance
URL:https://raagmala.ca/concert/1378/
LOCATION:Aga Khan Museum\, 77 Wynford Dr\,\, North York\, Ontario\, M3C 1K1\, Canada
CATEGORIES:Aga Khan Museum,In Person Concert
ATTACH;FMTTYPE=image/jpeg:https://raagmala.ca/wp-content/uploads/2024/02/RM-Apr-21-2024-IG-flyer-v2.jpg
ORGANIZER;CN="Aga Khan Museum":MAILTO:information@agakhanmuseum.org
END:VEVENT
END:VCALENDAR